BEGIN:VCALENDAR
VERSION:2.0
PRODID:-// - ECPv6.15.20//NONSGML v1.0//EN
CALSCALE:GREGORIAN
METHOD:PUBLISH
X-ORIGINAL-URL:https://thenorthernguthub.com
X-WR-CALDESC:Events for 
REFRESH-INTERVAL;VALUE=DURATION:PT1H
X-Robots-Tag:noindex
X-PUBLISHED-TTL:PT1H
BEGIN:VTIMEZONE
TZID:UTC
BEGIN:STANDARD
TZOFFSETFROM:+0000
TZOFFSETTO:+0000
TZNAME:UTC
DTSTART:20240101T000000
END:STANDARD
END:VTIMEZONE
BEGIN:VEVENT
DTSTART;TZID=UTC:20251015T080000
DTEND;TZID=UTC:20251017T170000
DTSTAMP:20260419T143004
CREATED:20250413T094057Z
LAST-MODIFIED:20250413T094100Z
UID:725-1760515200-1760720400@thenorthernguthub.com
SUMMARY:Basic Colonoscopy Course
DESCRIPTION:Course Organiser – Dr Jamie Barbour. Book via the JETS website. For enquiries please email m.murphy14@nhs.net
URL:https://thenorthernguthub.com/event/basic-colonoscopy-course-2/
LOCATION:Queen Elizabeth Ave\, Gateshead NE9 6SX\, Ward Area in Clinical Skills\, Queen Elizabeth Ave\,\, Gateshead\, NE9 6SX
ORGANIZER;CN="Queen Elizabeth Gateshead":MAILTO:m.murphy14@nhs.net
END:VEVENT
END:VCALENDAR