BEGIN:VCALENDAR
VERSION:2.0
PRODID:-// - ECPv6.15.20//NONSGML v1.0//EN
CALSCALE:GREGORIAN
METHOD:PUBLISH
X-ORIGINAL-URL:https://thenorthernguthub.com
X-WR-CALDESC:Events for 
REFRESH-INTERVAL;VALUE=DURATION:PT1H
X-Robots-Tag:noindex
X-PUBLISHED-TTL:PT1H
BEGIN:VTIMEZONE
TZID:UTC
BEGIN:STANDARD
TZOFFSETFROM:+0000
TZOFFSETTO:+0000
TZNAME:UTC
DTSTART:20250101T000000
END:STANDARD
END:VTIMEZONE
BEGIN:VEVENT
DTSTART;TZID=UTC:20260319T090000
DTEND;TZID=UTC:20260319T170000
DTSTAMP:20260420T103052
CREATED:20260102T220539Z
LAST-MODIFIED:20260123T071843Z
UID:930-1773910800-1773939600@thenorthernguthub.com
SUMMARY:Regional Teaching- Functional Gut and Pelvic floor Medicine
DESCRIPTION:Mixture of talks covering IBS\, constipation\, chronic vomiting\, evacuatory disorders\, faecal incontinence\, Upper and lower GI physiology and pelvic floor medicine. Organised by Prof Yiannakou.
URL:https://thenorthernguthub.com/event/regional-teaching-functional-gut-and-pelvic-floor-medicine/
LOCATION:Prospect House\, Aykley Heads\, Durham\, DH1 5TS\, United Kingdom
END:VEVENT
END:VCALENDAR