BEGIN:VCALENDAR
VERSION:2.0
PRODID:-// - ECPv6.15.20//NONSGML v1.0//EN
CALSCALE:GREGORIAN
METHOD:PUBLISH
X-ORIGINAL-URL:https://thenorthernguthub.com
X-WR-CALDESC:Events for 
REFRESH-INTERVAL;VALUE=DURATION:PT1H
X-Robots-Tag:noindex
X-PUBLISHED-TTL:PT1H
BEGIN:VTIMEZONE
TZID:UTC
BEGIN:STANDARD
TZOFFSETFROM:+0000
TZOFFSETTO:+0000
TZNAME:UTC
DTSTART:20250101T000000
END:STANDARD
END:VTIMEZONE
BEGIN:VEVENT
DTSTART;TZID=UTC:20260430T080000
DTEND;TZID=UTC:20260430T170000
DTSTAMP:20260419T161608
CREATED:20260217T205448Z
LAST-MODIFIED:20260217T205453Z
UID:981-1777536000-1777568400@thenorthernguthub.com
SUMMARY:( Non regional teaching ) BSG 90 meeting
DESCRIPTION:8:30 – 09:00 \n\n\n\nArrival Tea/Coffee and Registration \n\n\n\nWelcome & The President’sAddress \n\n\n\n10.30 – 11.00 \n\n\n\nTea/Coffee break \n\n\n\nProf Colin Rees\, BSG President \n\n\n\nAutoimmune liver disease – aclinical update; when to worry\,when to refer \n\n\n\nDr Jess Dyson\, FreemanHospital\, Newcastle upon Tyne \n\n\n\nP90 BSG Northern Region Gut Club \n\n\n\nSession 1: Hepatology\, Co-chairs Dr Dina Mansour & Dr DanielGeh \n\n\n\nPractical management ofMASLD: diagnosis\, stagingand treatment \n\n\n\nProf Stuart McPherson\,Freeman Hospital\, Newcastleupon Tyne \n\n\n\nImproving outcomes forhepatocellular carcinoma \n\n\n\nProf Helen Reeves\, FreemanHospital\, Newcastle upon Tyne \n\n\n\nEmergency presentations ofpatients on TPN \n\n\n\nDr Jane Fletcher\, QueenElizabeth Hospital\, Birmingham \n\n\n\nQuality of life in patientswith intestinal failure \n\n\n\nDr Collette Kirk\, FreemanHospital\, Newcastle upon Tyne \n\n\n\nPanel Q&A \n\n\n\n09.00 – 10.30 \n\n\n\nPanel Q&A \n\n\n\nSession 2: Nutrition\, Co-chairs Dr Nick Thompson & Dr Bob Lees \n\n\n\n11.00 – 12.30 \n\n\n\nClinical Nutrition researchin the UK – what’s happeningnow and how do we developfor the future? \n\n\n\nDr Sham Mehta\, The RoyalLondon Hospital\, London \n\n\n\n12.30 – 13.30 \n\n\n\nLunch \n\n\n\nSession 3: Abstracts – Best in Show \n\n\n\n13.30 – 13.40 \n\n\n\nSession 4: Endoscopy\, Co-chairs Prof Matt Rutter & Dr IosifBentaris \n\n\n\n13.40 – 15.00 \n\n\n\n\n\n\n\nPROJECT 90 \n\n\n\nCelebrating the Past\, Looking to the Future \n\n\n\n09.00 – 09.10 \n\n\n\n09.10 – 09.30 \n\n\n\n09.30 – 09.50 \n\n\n\n09.50 – 10.10 \n\n\n\n10.10 – 10.30 \n\n\n\n11.00 – 11.20 \n\n\n\n11.20 – 11.40 \n\n\n\n11.40 – 12.00 \n\n\n\n12.00 – 12.30
URL:https://thenorthernguthub.com/event/non-regional-teaching-bsg-90-meeting/
LOCATION:Thursday 30th April 2026  The Catalyst\, 3 Science Square\, Newcastle Helix\, Newcastle\, NE4 5TG\, NE4 5TG
END:VEVENT
END:VCALENDAR