BEGIN:VCALENDAR
VERSION:2.0
PRODID:-// - ECPv6.15.20//NONSGML v1.0//EN
CALSCALE:GREGORIAN
METHOD:PUBLISH
X-ORIGINAL-URL:https://thenorthernguthub.com
X-WR-CALDESC:Events for 
REFRESH-INTERVAL;VALUE=DURATION:PT1H
X-Robots-Tag:noindex
X-PUBLISHED-TTL:PT1H
BEGIN:VTIMEZONE
TZID:UTC
BEGIN:STANDARD
TZOFFSETFROM:+0000
TZOFFSETTO:+0000
TZNAME:UTC
DTSTART:20250101T000000
END:STANDARD
END:VTIMEZONE
BEGIN:VEVENT
DTSTART;TZID=UTC:20260610T080000
DTEND;TZID=UTC:20260610T120000
DTSTAMP:20260419T195355
CREATED:20260409T081937Z
LAST-MODIFIED:20260409T081940Z
UID:1037-1781078400-1781092800@thenorthernguthub.com
SUMMARY:Regional teaching : Pancreatobillary teaching at NSECH
DESCRIPTION:A practical pancreatobiliary teaching session is planned for 10 June 2026 at NSECH. The session will mirror the format of a successful previous event\, with short focused presentations followed by hands-on experience with equipment and support from medical representatives. As it has been several years since the last session\, this will be a useful opportunity to refresh the format and provide updated practical teaching. Full programme details will be shared soon.
URL:https://thenorthernguthub.com/event/regional-teaching-pancreatobillary-teaching-at-nsech/
LOCATION:NSECH\, Northumbria Way\, Cramlington\,\, Northumberland\, NE23 6NZ
END:VEVENT
END:VCALENDAR