BEGIN:VCALENDAR
VERSION:2.0
PRODID:-// - ECPv6.15.20//NONSGML v1.0//EN
CALSCALE:GREGORIAN
METHOD:PUBLISH
X-ORIGINAL-URL:https://thenorthernguthub.com
X-WR-CALDESC:Events for 
REFRESH-INTERVAL;VALUE=DURATION:PT1H
X-Robots-Tag:noindex
X-PUBLISHED-TTL:PT1H
BEGIN:VTIMEZONE
TZID:UTC
BEGIN:STANDARD
TZOFFSETFROM:+0000
TZOFFSETTO:+0000
TZNAME:UTC
DTSTART:20250101T000000
END:STANDARD
END:VTIMEZONE
BEGIN:VEVENT
DTSTART;TZID=UTC:20260825T013000
DTEND;TZID=UTC:20260825T163000
DTSTAMP:20260419T232754
CREATED:20260124T083930Z
LAST-MODIFIED:20260128T094120Z
UID:949-1787621400-1787675400@thenorthernguthub.com
SUMMARY:Liver cirrhosis - acute and chronic management  (August SRH Education center - Dr Rohit Sinha
DESCRIPTION:25th August 2pm \n\n\n\nTopic – liver cirrhosis – acute and chronic management  \n\n\n\nVenue – education centre @ SRH  \n\n\n\n2 sessions (each 60 min with 15min coffee break)\, aim to finish 4:30 ish \n\n\n\nAttendance in person is mandatory \, teams may be provided in exceptional circumstances – please email: david.roxborough@nhs.net
URL:https://thenorthernguthub.com/event/masld-evolving-therapies-nov-exact-date-tbc-dr-rohit-sinha/
LOCATION:Kayll Rd\, Sunderland SR4 7TP\, Kayll Rd\,\, Sunderland\, SR4 7TP
END:VEVENT
END:VCALENDAR