BEGIN:VCALENDAR
VERSION:2.0
PRODID:-// - ECPv6.15.20//NONSGML v1.0//EN
CALSCALE:GREGORIAN
METHOD:PUBLISH
X-ORIGINAL-URL:https://thenorthernguthub.com
X-WR-CALDESC:Events for 
REFRESH-INTERVAL;VALUE=DURATION:PT1H
X-Robots-Tag:noindex
X-PUBLISHED-TTL:PT1H
BEGIN:VTIMEZONE
TZID:UTC
BEGIN:STANDARD
TZOFFSETFROM:+0000
TZOFFSETTO:+0000
TZNAME:UTC
DTSTART:20250101T000000
END:STANDARD
END:VTIMEZONE
BEGIN:VEVENT
DTSTART;TZID=UTC:20261101T080000
DTEND;TZID=UTC:20261101T170000
DTSTAMP:20260420T062050
CREATED:20260124T083811Z
LAST-MODIFIED:20260128T094204Z
UID:943-1793520000-1793552400@thenorthernguthub.com
SUMMARY:MASLD and liver disease NOV -exact date TBC Dr Rohit Sinha
DESCRIPTION:Practical session on cirrhosis (Acute IP and Chronic ) management
URL:https://thenorthernguthub.com/event/practical-session-on-cirrhosis-acute-ip-and-chronic-management-aug-exact-date-tbc-dr-rohit-sinha/
LOCATION:Kayll Rd\, Sunderland SR4 7TP\, Kayll Rd\,\, Sunderland\, SR4 7TP
END:VEVENT
END:VCALENDAR