BEGIN:VCALENDAR
VERSION:2.0
PRODID:-// - ECPv6.15.20//NONSGML v1.0//EN
CALSCALE:GREGORIAN
METHOD:PUBLISH
X-ORIGINAL-URL:https://thenorthernguthub.com
X-WR-CALDESC:Events for 
REFRESH-INTERVAL;VALUE=DURATION:PT1H
X-Robots-Tag:noindex
X-PUBLISHED-TTL:PT1H
BEGIN:VTIMEZONE
TZID:UTC
BEGIN:STANDARD
TZOFFSETFROM:+0000
TZOFFSETTO:+0000
TZNAME:UTC
DTSTART:20240101T000000
END:STANDARD
END:VTIMEZONE
BEGIN:VEVENT
DTSTART;TZID=UTC:20250408T010000
DTEND;TZID=UTC:20250408T163000
DTSTAMP:20260420T050803
CREATED:20250123T111344Z
LAST-MODIFIED:20250408T075855Z
UID:493-1744074000-1744129800@thenorthernguthub.com
SUMMARY:Regional Teaching April
DESCRIPTION:Teaching starts at 13:00 \n\n\n\nProf Helen Reeves HCC \n\n\n\nHelen Ludlow from 130-230 \n\n\n\nProf Reeves from 230 to 430 \n\n\n\n \n\n\n\nRoom 7 Prospect House\, Aykley Heads\, Durham DH1 5TS \n\n\n\n \n\n\n\nSponsored by Lilly Pharmaceuticals
URL:https://thenorthernguthub.com/event/regional-teaching-april/
LOCATION:Room 7 Prospect House\, Aykley Heads\, Durham DH1 5TS\, Aykley Heads\,\, Durham\, DH1 5TS
END:VEVENT
BEGIN:VEVENT
DTSTART;TZID=UTC:20250312T090000
DTEND;TZID=UTC:20250312T130000
DTSTAMP:20260420T050803
CREATED:20250123T110912Z
LAST-MODIFIED:20250303T140917Z
UID:489-1741770000-1741784400@thenorthernguthub.com
SUMMARY:Regional teaching March
DESCRIPTION:NRAD Radiology Fellows – Abdominal Radiology \n\n\n\nDurham hospital – prospect house ( across the road from the hospital parking free at Council carpark behind prospect house ) MacLab suite \n\n\n\n \n\n\n\nHours 9:00 – 13:00
URL:https://thenorthernguthub.com/event/regional-teaching-march/
LOCATION:MacLab \, Prospect House (education centre) \, University Hospital North Durham\, Aykley Heads\,\, Durham\, DH1 5TS
END:VEVENT
BEGIN:VEVENT
DTSTART;TZID=UTC:20250212T004500
DTEND;TZID=UTC:20250212T170000
DTSTAMP:20260420T050803
CREATED:20241203T205731Z
LAST-MODIFIED:20250211T153251Z
UID:140-1739321100-1739379600@thenorthernguthub.com
SUMMARY:Regional teaching February 2025
DESCRIPTION:12:45 lunch sponsored by Ovesco with Geoff giving a practical demonstration of how to use the over the scope clip on models. \n\n\n\n2pm Endoscopy training Hands on- how to teach endoscopy JAB to supervise training session between a trainee and a trainer \n\n\n\n2.40pm Piecemeal resection of rectal cancer- outcomes from 3 years of BCSP Alex Vozza if available (JAB if not) \n\n\n\n3pm Poem treatment for Achalasia- Northern Regional service Wasif Rasool \n\n\n\n3.30pm Tea and coffee \n\n\n\n4pm Advanced Speciality Training Module (ATSM) for training of future Bowel Cancer Screening Colonoscopists JAB \n\n\n\n4.30pm FMT background and pathway Dr Saeed \n\n\n\n5pm finish \n\n\n\n \n\n\n\nWard Area in the Clinical Skills Centre from  \n\n\n\n12 noon until 5 pm on Wednesday\, 12th February 2025
URL:https://thenorthernguthub.com/event/regional-teaching-february-2025/
LOCATION:Queen Elizabeth Ave\, Gateshead NE9 6SX\, Ward Area in Clinical Skills\, Queen Elizabeth Ave\,\, Gateshead\, NE9 6SX
ORGANIZER;CN="Queen Elizabeth Gateshead - Khurum Hakeem":MAILTO:khurum.hakeem2@nhs.net
END:VEVENT
BEGIN:VEVENT
DTSTART;TZID=UTC:20250129T133000
DTEND;TZID=UTC:20250129T163000
DTSTAMP:20260420T050803
CREATED:20241203T204951Z
LAST-MODIFIED:20250210T212218Z
UID:135-1738157400-1738168200@thenorthernguthub.com
SUMMARY:Improving Gastroenterology Training: Local Teaching at QEH Gateshead
DESCRIPTION:Regional teaching for Gastroenterology trainees @ QEH Gateshead. In the clinical skills area.  \n\n\n\nCurrent speakers include: \n\n\n\n1:30 PM: Sponsored by Abbvie : Nadia\, a brief introduction regarding biologics \n\n\n\n2:00 PM: Dr. Catlow – Teaching on GI bleeding and polyps. \n\n\n\n3:30 PM: Prof. Leeds – Advances in PB medicine. \n\n\n\n\n\n\n\n\n\n\n\n\n\n\n\n\n\nYou might be interested in exploring more about the fascinating field of [Gastroenterology](https://en.wikipedia.org/wiki/Gastroenterology)\, where trained specialists diagnose and treat digestive system disorders. Speaking of treatments\, have you heard about [biologics](https://en.wikipedia.org/wiki/Biologic_therapy)? These innovative therapies are gaining prominence in managing various gastrointestinal conditions. Additionally\, if you’re keen to learn more about common conditions like [GI bleeding](https://en.wikipedia.org/wiki/Gastrointestinal_bleeding) and [polyps](https://en.wikipedia.org/wiki/Polyp)\, these articles provide valuable insights into their diagnosis and management.
URL:https://thenorthernguthub.com/event/regional-teaching/
LOCATION:Queen Elizabeth Ave\, Gateshead NE9 6SX\, Ward Area in Clinical Skills\, Queen Elizabeth Ave\,\, Gateshead\, NE9 6SX
ORGANIZER;CN="Queen Elizabeth Gateshead - Khurum Hakeem":MAILTO:khurum.hakeem2@nhs.net
END:VEVENT
BEGIN:VEVENT
DTSTART;TZID=UTC:20250127T080000
DTEND;TZID=UTC:20250127T170000
DTSTAMP:20260420T050803
CREATED:20250102T132757Z
LAST-MODIFIED:20250102T143627Z
UID:367-1737964800-1737997200@thenorthernguthub.com
SUMMARY:EMPATH Endoscopy training
DESCRIPTION:EMPATH endoscopy training day \n\n\n\n\n\n\n\nfraser.brown2@nhs.net
URL:https://thenorthernguthub.com/event/empath/
LOCATION:North Tees University Hospital\, Hardwick Rd\, Hardwick\,\, Stockton-on-Tees\, TS19 8PE
ORGANIZER;CN="EmPATH":MAILTO:eleanor.hackney@nhs.net
END:VEVENT
END:VCALENDAR