BEGIN:VCALENDAR
VERSION:2.0
PRODID:-// - ECPv6.15.20//NONSGML v1.0//EN
CALSCALE:GREGORIAN
METHOD:PUBLISH
X-ORIGINAL-URL:https://thenorthernguthub.com
X-WR-CALDESC:Events for 
REFRESH-INTERVAL;VALUE=DURATION:PT1H
X-Robots-Tag:noindex
X-PUBLISHED-TTL:PT1H
BEGIN:VTIMEZONE
TZID:UTC
BEGIN:STANDARD
TZOFFSETFROM:+0000
TZOFFSETTO:+0000
TZNAME:UTC
DTSTART:20240101T000000
END:STANDARD
END:VTIMEZONE
BEGIN:VEVENT
DTSTART;TZID=UTC:20251006T090000
DTEND;TZID=UTC:20251006T130000
DTSTAMP:20260419T124713
CREATED:20250721T143745Z
LAST-MODIFIED:20251004T075306Z
UID:804-1759741200-1759755600@thenorthernguthub.com
SUMMARY:GI physiology including oesophageal and anorectal physiology testing
DESCRIPTION:Also basics of nuclear medicine tests including gastric emptying\, SeHCAT\, white cell scan and Gi bleed localisation
URL:https://thenorthernguthub.com/event/gi-physiology-including-oesophageal-and-anorectal-physiology-testing/
LOCATION:Prospect House room 5 \, Room 7 Prospect House\, Aykley Heads\, Durham DH1 5TS Aykley Heads\, Durham\, DH1 5TS\, Aykley heads\, Durham\, DH1 5TS\, United Kingdom
END:VEVENT
BEGIN:VEVENT
DTSTART;TZID=UTC:20251009T080000
DTEND;TZID=UTC:20251010T170000
DTSTAMP:20260419T124713
CREATED:20250713T123209Z
LAST-MODIFIED:20250713T123211Z
UID:800-1759996800-1760115600@thenorthernguthub.com
SUMMARY:Advanced Endotherapy Course
DESCRIPTION:Venue – Middlefield Lecture Theatre\, North Tees hospital \n\n\n\n9th October 2025 (Day 1 – whole day – management of GI luminal strictures – aimed at clinicians who undertake or are training in the delivery of fluoroscopy related work (stenting and dilatation in luminal\, HPB endoscopy\, G-POEM\, Polyp MDT\, ESD case)  \n\n\n\n10th October 2025 (Day 2 – whole day – advanced luminal endotherapy – aimed at clinicians who undertake or are training in the delivery of advanced upper GI and lower GI endotherapy including EMR/ESD/POEM/Barrett’s endotherapy/small bowel endotherapy etc).  \n\n\n\nThe course is primarily aimed at higher speciality gastroenterology trainees\, endoscopy fellows\, advanced clinical endoscopists and GI/Surgical consultants in the region. \n\n\n\n \n\n\n\nWe shall be grateful if you could kindly forward this agenda to the relevant higher speciality trainees and interested consultants in your department. \n\n\n\nWe are very grateful to all the regional faculty who have agreed to give up their valuable time to support this course. \n\n\n\nWe have limited spaces (55 each day) for this course – please reserve your space early to avoid any disappointment.  \n\n\n\nWe have decided to introduce a course fee of £25 for each day of the course to cover the expenses of the course. If you want to attend both days\, please make a payment of £50 \n\n\n\nPlease use the following link to pay £25 per day for course registration (quoting Endotherapy course at North Tees at the time of booking clearly stating which days you want to attend) and take a picture of the receipt and email it to Sarah Disley and Rachel Jobes in the email  – cost centre of payment is 367228 \n\n\n\n \n\n\n\nhttp://www.nth.nhs.uk/payments \n\n\n\nDue to the slightly different agendas and target audience on the two days\, please specify if you would like to attend one or both days during registration. \n\n\n\nIf you can’t make it\, please let us know so that we can offer the place to someone else. \n\n\n\nFor registration please email stating the date you want to attend: \n\n\n\nrachel.jobes@nhs.net \n\n\n\nsarah.disley@nhs.net  \n\n\n\nKind regards
URL:https://thenorthernguthub.com/event/advanced-endotherapy-course/
LOCATION:North Tees Hospital \, Education center \, Hardwick Rd\, Hardwick\, Stockton-on-Tees TS19 8PE\, Hardwick Rd\, Stockton\, TS19 8PE
END:VEVENT
BEGIN:VEVENT
DTSTART;TZID=UTC:20251015T080000
DTEND;TZID=UTC:20251017T170000
DTSTAMP:20260419T124713
CREATED:20250413T094057Z
LAST-MODIFIED:20250413T094100Z
UID:725-1760515200-1760720400@thenorthernguthub.com
SUMMARY:Basic Colonoscopy Course
DESCRIPTION:Course Organiser – Dr Jamie Barbour. Book via the JETS website. For enquiries please email m.murphy14@nhs.net
URL:https://thenorthernguthub.com/event/basic-colonoscopy-course-2/
LOCATION:Queen Elizabeth Ave\, Gateshead NE9 6SX\, Ward Area in Clinical Skills\, Queen Elizabeth Ave\,\, Gateshead\, NE9 6SX
ORGANIZER;CN="Queen Elizabeth Gateshead":MAILTO:m.murphy14@nhs.net
END:VEVENT
END:VCALENDAR