BEGIN:VCALENDAR
VERSION:2.0
PRODID:-// - ECPv6.15.20//NONSGML v1.0//EN
CALSCALE:GREGORIAN
METHOD:PUBLISH
X-ORIGINAL-URL:https://thenorthernguthub.com
X-WR-CALDESC:Events for 
REFRESH-INTERVAL;VALUE=DURATION:PT1H
X-Robots-Tag:noindex
X-PUBLISHED-TTL:PT1H
BEGIN:VTIMEZONE
TZID:UTC
BEGIN:STANDARD
TZOFFSETFROM:+0000
TZOFFSETTO:+0000
TZNAME:UTC
DTSTART:20250101T000000
END:STANDARD
END:VTIMEZONE
BEGIN:VEVENT
DTSTART;TZID=UTC:20260715T130000
DTEND;TZID=UTC:20260715T170000
DTSTAMP:20260419T193822
CREATED:20260124T084118Z
LAST-MODIFIED:20260128T113543Z
UID:953-1784120400-1784134800@thenorthernguthub.com
SUMMARY:Biologic choice in IBD- Dr Andrew King
DESCRIPTION:Biologic choice in IBD\, which drug you pick\, when\, and why by the esteemed RVI Doctor Andrew King.  Exact timings and venue TBC.
URL:https://thenorthernguthub.com/event/biologic-choice-in-ibd-dr-andrew-king-date-tbc/
LOCATION:Royal Victoria hospital ( piano room)\, Queen Victoria road\, Newcastle\, Ne1 4LP\, United Kingdom
END:VEVENT
BEGIN:VEVENT
DTSTART;TZID=UTC:20260723T120000
DTEND;TZID=UTC:20260723T170000
DTSTAMP:20260419T193822
CREATED:20260102T220743Z
LAST-MODIFIED:20260415T094231Z
UID:934-1784808000-1784826000@thenorthernguthub.com
SUMMARY:GRANT Annual Symposium
DESCRIPTION:
URL:https://thenorthernguthub.com/event/grant-annual-symposium/
LOCATION:Education Centre Sunderland Royal Hospital\, SR4 7TP
END:VEVENT
END:VCALENDAR